Package: globalSeq Version: 1.36.0 Command: /Library/Frameworks/R.framework/Resources/bin/R CMD INSTALL globalSeq StartedAt: 2025-10-09 15:17:12 -0400 (Thu, 09 Oct 2025) EndedAt: 2025-10-09 15:17:19 -0400 (Thu, 09 Oct 2025) EllapsedTime: 6.7 seconds RetCode: 0 Status: OK