Package: glmSparseNet Version: 1.28.0 Command: /home/biocbuild/R/R/bin/R CMD INSTALL glmSparseNet StartedAt: 2025-11-13 21:51:40 -0000 (Thu, 13 Nov 2025) EndedAt: 2025-11-13 21:51:44 -0000 (Thu, 13 Nov 2025) EllapsedTime: 4.4 seconds RetCode: 0 Status: OK