Package: glmSparseNet Version: 1.28.0 Command: /home/biocbuild/bbs-3.22-bioc/R/bin/R CMD INSTALL glmSparseNet StartedAt: 2025-11-13 15:45:05 -0500 (Thu, 13 Nov 2025) EndedAt: 2025-11-13 15:45:08 -0500 (Thu, 13 Nov 2025) EllapsedTime: 3.2 seconds RetCode: 0 Status: OK