Package: glmSparseNet Version: 1.26.0 Command: /home/biocbuild/bbs-3.21-bioc/R/bin/R CMD check --install=check:glmSparseNet.install-out.txt --library=/home/biocbuild/bbs-3.21-bioc/R/site-library --timings glmSparseNet_1.26.0.tar.gz StartedAt: 2025-10-05 23:41:32 -0400 (Sun, 05 Oct 2025) EndedAt: 2025-10-05 23:48:17 -0400 (Sun, 05 Oct 2025) EllapsedTime: 405.5 seconds RetCode: 0 Status: OK CheckDir: glmSparseNet.Rcheck Warnings: 0