Package: glmSparseNet Version: 1.26.0 Command: /home/biocbuild/bbs-3.21-bioc/R/bin/R CMD build --keep-empty-dirs --no-resave-data glmSparseNet StartedAt: 2025-09-28 17:59:13 -0400 (Sun, 28 Sep 2025) EndedAt: 2025-09-28 18:03:00 -0400 (Sun, 28 Sep 2025) EllapsedTime: 227.2 seconds RetCode: 0 Status: OK PackageFile: glmSparseNet_1.26.0.tar.gz PackageFileSize: 2.817 MiB