Package: glmSparseNet Version: 1.26.0 Command: /Library/Frameworks/R.framework/Resources/bin/R CMD check --install=check:glmSparseNet.install-out.txt --library=/Library/Frameworks/R.framework/Resources/library --no-vignettes --timings glmSparseNet_1.26.0.tar.gz StartedAt: 2025-04-21 21:03:08 -0400 (Mon, 21 Apr 2025) EndedAt: 2025-04-21 21:05:05 -0400 (Mon, 21 Apr 2025) EllapsedTime: 117.0 seconds RetCode: 0 Status: OK CheckDir: glmSparseNet.Rcheck Warnings: 0