Package: glmGamPoi Version: 1.22.0 Command: /home/biocbuild/bbs-3.22-bioc/R/bin/R CMD build --keep-empty-dirs --no-resave-data --md5 glmGamPoi StartedAt: 2025-11-11 17:58:41 -0500 (Tue, 11 Nov 2025) EndedAt: 2025-11-11 18:06:05 -0500 (Tue, 11 Nov 2025) EllapsedTime: 443.4 seconds RetCode: 0 Status: OK PackageFile: glmGamPoi_1.22.0.tar.gz PackageFileSize: 2.098 MiB