Package: glmGamPoi Version: 1.20.0 Command: /home/biocbuild/bbs-3.21-bioc/R/bin/R CMD INSTALL glmGamPoi StartedAt: 2025-10-15 15:34:33 -0400 (Wed, 15 Oct 2025) EndedAt: 2025-10-15 15:35:31 -0400 (Wed, 15 Oct 2025) EllapsedTime: 57.6 seconds RetCode: 0 Status: OK