Package: glmGamPoi Version: 1.20.0 Command: /home/biocbuild/bbs-3.21-bioc/R/bin/R CMD build --keep-empty-dirs --no-resave-data glmGamPoi StartedAt: 2025-10-15 17:45:19 -0400 (Wed, 15 Oct 2025) EndedAt: 2025-10-15 17:52:45 -0400 (Wed, 15 Oct 2025) EllapsedTime: 446.3 seconds RetCode: 0 Status: OK PackageFile: glmGamPoi_1.20.0.tar.gz PackageFileSize: 2.096 MiB