Package: glmGamPoi Version: 1.20.0 Command: /home/biocbuild/R/R/bin/R CMD INSTALL glmGamPoi StartedAt: 2025-10-02 20:50:31 -0000 (Thu, 02 Oct 2025) EndedAt: 2025-10-02 20:51:58 -0000 (Thu, 02 Oct 2025) EllapsedTime: 86.3 seconds RetCode: 0 Status: OK