Package: glmGamPoi Version: 1.20.0 Command: /home/biocbuild/R/R/bin/R CMD build --keep-empty-dirs --no-resave-data glmGamPoi StartedAt: 2025-10-03 01:19:35 -0000 (Fri, 03 Oct 2025) EndedAt: 2025-10-03 01:31:48 -0000 (Fri, 03 Oct 2025) EllapsedTime: 732.2 seconds RetCode: 0 Status: OK PackageFile: glmGamPoi_1.20.0.tar.gz PackageFileSize: 2.079 MiB