Package: glmGamPoi Version: 1.20.0 Command: /Library/Frameworks/R.framework/Resources/bin/R CMD INSTALL glmGamPoi StartedAt: 2025-10-13 16:12:50 -0400 (Mon, 13 Oct 2025) EndedAt: 2025-10-13 16:13:45 -0400 (Mon, 13 Oct 2025) EllapsedTime: 55.4 seconds RetCode: 0 Status: OK