Package: glmGamPoi Version: 1.20.0 Command: rm -rf glmGamPoi.buildbin-libdir && mkdir glmGamPoi.buildbin-libdir && /Users/biocbuild/BBS/utils/build-universal.sh glmGamPoi_1.20.0.tar.gz /Library/Frameworks/R.framework/Resources/bin/R glmGamPoi.buildbin-libdir StartedAt: 2025-10-15 18:43:56 -0400 (Wed, 15 Oct 2025) EndedAt: 2025-10-15 18:44:57 -0400 (Wed, 15 Oct 2025) EllapsedTime: 60.9 seconds RetCode: 0 Status: OK PackageFile: glmGamPoi_1.20.0.tgz PackageFileSize: 1.842 MiB