Package: glmGamPoi Version: 1.22.0 Maintainer: Constantin Ahlmann-Eltze MaintainerEmail: artjom31415 at googlemail.com git_url: https://git.bioconductor.org/packages/glmGamPoi git_branch: RELEASE_3_22 git_last_commit: 908cde9 git_last_commit_date: 2025-10-29 10:58:15 -0400 (Wed, 29 Oct 2025)