Package: ginmappeR Version: 1.6.0 Command: /home/biocbuild/bbs-3.22-bioc/R/bin/R CMD INSTALL ginmappeR StartedAt: 2025-11-11 15:36:11 -0500 (Tue, 11 Nov 2025) EndedAt: 2025-11-11 15:36:27 -0500 (Tue, 11 Nov 2025) EllapsedTime: 16.1 seconds RetCode: 0 Status: OK