Package: ginmappeR Version: 1.6.0 Command: /home/biocbuild/bbs-3.22-bioc/R/bin/R CMD build --keep-empty-dirs --no-resave-data --md5 ginmappeR StartedAt: 2025-11-11 17:58:14 -0500 (Tue, 11 Nov 2025) EndedAt: 2025-11-11 17:59:53 -0500 (Tue, 11 Nov 2025) EllapsedTime: 99.1 seconds RetCode: 0 Status: OK PackageFile: ginmappeR_1.6.0.tar.gz PackageFileSize: 676.1 KiB