Package: ginmappeR Version: 1.6.0 Command: /Library/Frameworks/R.framework/Resources/bin/R CMD build --keep-empty-dirs --no-resave-data ginmappeR StartedAt: 2025-11-10 16:33:12 -0500 (Mon, 10 Nov 2025) EndedAt: 2025-11-10 16:34:33 -0500 (Mon, 10 Nov 2025) EllapsedTime: 81.8 seconds RetCode: 0 Status: OK PackageFile: ginmappeR_1.6.0.tar.gz PackageFileSize: 675.1 KiB