Package: ginmappeR Version: 1.6.0 Command: rm -rf ginmappeR.buildbin-libdir && mkdir ginmappeR.buildbin-libdir && /Users/biocbuild/BBS/utils/build-universal.sh ginmappeR_1.6.0.tar.gz /Library/Frameworks/R.framework/Resources/bin/R ginmappeR.buildbin-libdir StartedAt: 2025-11-10 23:22:04 -0500 (Mon, 10 Nov 2025) EndedAt: 2025-11-10 23:22:12 -0500 (Mon, 10 Nov 2025) EllapsedTime: 7.2 seconds RetCode: 0 Status: OK PackageFile: ginmappeR_1.6.0.tgz PackageFileSize: 677.3 KiB