Package: ggtreeSpace Version: 1.6.0 Command: /home/biocbuild/R/R/bin/R CMD INSTALL ggtreeSpace StartedAt: 2025-11-24 21:15:12 -0000 (Mon, 24 Nov 2025) EndedAt: 2025-11-24 21:15:45 -0000 (Mon, 24 Nov 2025) EllapsedTime: 32.3 seconds RetCode: 0 Status: OK