Package: ggtreeSpace Version: 1.6.0 Command: /home/biocbuild/R/R/bin/R CMD build --keep-empty-dirs --no-resave-data ggtreeSpace StartedAt: 2025-11-25 02:01:41 -0000 (Tue, 25 Nov 2025) EndedAt: 2025-11-25 02:02:09 -0000 (Tue, 25 Nov 2025) EllapsedTime: 28.0 seconds RetCode: 0 Status: OK PackageFile: ggtreeSpace_1.6.0.tar.gz PackageFileSize: 371.3 KiB