Package: ggtreeSpace Version: 1.6.0 Command: /home/biocbuild/bbs-3.22-bioc/R/bin/R CMD INSTALL ggtreeSpace StartedAt: 2025-11-11 15:14:57 -0500 (Tue, 11 Nov 2025) EndedAt: 2025-11-11 15:15:11 -0500 (Tue, 11 Nov 2025) EllapsedTime: 13.4 seconds RetCode: 0 Status: OK