Package: ggtreeSpace Version: 1.6.0 Command: /home/biocbuild/bbs-3.22-bioc/R/bin/R CMD check --install=check:ggtreeSpace.install-out.txt --library=/home/biocbuild/bbs-3.22-bioc/R/site-library --timings ggtreeSpace_1.6.0.tar.gz StartedAt: 2025-11-12 00:09:40 -0500 (Wed, 12 Nov 2025) EndedAt: 2025-11-12 00:11:11 -0500 (Wed, 12 Nov 2025) EllapsedTime: 91.1 seconds RetCode: 0 Status: WARNINGS CheckDir: ggtreeSpace.Rcheck Warnings: 2