Package: ggtreeSpace Version: 1.6.0 Command: /home/biocbuild/bbs-3.22-bioc/R/bin/R CMD build --keep-empty-dirs --no-resave-data --md5 ggtreeSpace StartedAt: 2025-11-11 17:58:05 -0500 (Tue, 11 Nov 2025) EndedAt: 2025-11-11 17:58:24 -0500 (Tue, 11 Nov 2025) EllapsedTime: 19.1 seconds RetCode: 0 Status: OK PackageFile: ggtreeSpace_1.6.0.tar.gz PackageFileSize: 497.4 KiB