Package: ggtreeSpace Version: 1.4.0 Command: /home/biocbuild/bbs-3.21-bioc/R/bin/R CMD build --keep-empty-dirs --no-resave-data ggtreeSpace StartedAt: 2025-10-15 17:44:55 -0400 (Wed, 15 Oct 2025) EndedAt: 2025-10-15 17:45:15 -0400 (Wed, 15 Oct 2025) EllapsedTime: 20.0 seconds RetCode: 0 Status: OK PackageFile: ggtreeSpace_1.4.0.tar.gz PackageFileSize: 543.7 KiB