Package: ggtreeSpace Version: 1.6.0 Maintainer: Guangchuang Yu MaintainerEmail: guangchuangyu at gmail.com git_url: https://git.bioconductor.org/packages/ggtreeSpace git_branch: RELEASE_3_22 git_last_commit: 86ccb34 git_last_commit_date: 2025-10-29 11:29:47 -0400 (Wed, 29 Oct 2025)