Package: ggtreeExtra Version: 1.20.0 Command: /home/biocbuild/R/R/bin/R CMD INSTALL ggtreeExtra StartedAt: 2025-11-17 21:15:39 -0000 (Mon, 17 Nov 2025) EndedAt: 2025-11-17 21:16:04 -0000 (Mon, 17 Nov 2025) EllapsedTime: 25.2 seconds RetCode: 0 Status: OK