Package: ggtreeExtra Version: 1.20.0 Command: /home/biocbuild/R/R/bin/R CMD build --keep-empty-dirs --no-resave-data ggtreeExtra StartedAt: 2025-11-18 01:59:10 -0000 (Tue, 18 Nov 2025) EndedAt: 2025-11-18 01:59:41 -0000 (Tue, 18 Nov 2025) EllapsedTime: 31.0 seconds RetCode: 0 Status: OK PackageFile: ggtreeExtra_1.20.0.tar.gz PackageFileSize: 304.4 KiB