Package: ggtreeExtra Version: 1.18.1 Command: /home/biocbuild/bbs-3.21-bioc/R/bin/R CMD INSTALL ggtreeExtra StartedAt: 2025-10-15 15:09:48 -0400 (Wed, 15 Oct 2025) EndedAt: 2025-10-15 15:09:54 -0400 (Wed, 15 Oct 2025) EllapsedTime: 6.4 seconds RetCode: 0 Status: OK