Package: ggtreeExtra Version: 1.18.1 Command: /home/biocbuild/bbs-3.21-bioc/R/bin/R CMD build --keep-empty-dirs --no-resave-data ggtreeExtra StartedAt: 2025-10-15 17:44:51 -0400 (Wed, 15 Oct 2025) EndedAt: 2025-10-15 17:45:11 -0400 (Wed, 15 Oct 2025) EllapsedTime: 20.0 seconds RetCode: 0 Status: OK PackageFile: ggtreeExtra_1.18.1.tar.gz PackageFileSize: 526.3 KiB