Package: ggtreeExtra Version: 1.18.0 Command: /Library/Frameworks/R.framework/Resources/bin/R CMD INSTALL ggtreeExtra StartedAt: 2025-04-21 15:11:11 -0400 (Mon, 21 Apr 2025) EndedAt: 2025-04-21 15:11:39 -0400 (Mon, 21 Apr 2025) EllapsedTime: 28.5 seconds RetCode: 0 Status: OK