Package: ggtreeExtra Version: 1.18.1 Command: /Library/Frameworks/R.framework/Resources/bin/R CMD build --keep-empty-dirs --no-resave-data ggtreeExtra StartedAt: 2025-10-14 01:14:37 -0400 (Tue, 14 Oct 2025) EndedAt: 2025-10-14 01:15:01 -0400 (Tue, 14 Oct 2025) EllapsedTime: 24.1 seconds RetCode: 0 Status: OK PackageFile: ggtreeExtra_1.18.1.tar.gz PackageFileSize: 939.6 KiB