Package: ggtreeExtra Version: 1.18.1 Command: rm -rf ggtreeExtra.buildbin-libdir && mkdir ggtreeExtra.buildbin-libdir && /Users/biocbuild/BBS/utils/build-universal.sh ggtreeExtra_1.18.1.tar.gz /Library/Frameworks/R.framework/Resources/bin/R ggtreeExtra.buildbin-libdir StartedAt: 2025-10-15 18:43:21 -0400 (Wed, 15 Oct 2025) EndedAt: 2025-10-15 18:43:32 -0400 (Wed, 15 Oct 2025) EllapsedTime: 10.2 seconds RetCode: 0 Status: OK PackageFile: ggtreeExtra_1.18.1.tgz PackageFileSize: 1.05 MiB