Package: ggtreeExtra Version: 1.18.1 Maintainer: Shuangbin Xu MaintainerEmail: xshuangbin at 163.com git_url: https://git.bioconductor.org/packages/ggtreeExtra git_branch: RELEASE_3_21 git_last_commit: 45bf3e0 git_last_commit_date: 2025-09-16 04:23:57 -0400 (Tue, 16 Sep 2025)