Package: ggtreeDendro Version: 1.12.0 Command: /home/biocbuild/bbs-3.22-bioc/R/bin/R CMD INSTALL ggtreeDendro StartedAt: 2025-11-02 15:17:06 -0500 (Sun, 02 Nov 2025) EndedAt: 2025-11-02 15:17:18 -0500 (Sun, 02 Nov 2025) EllapsedTime: 12.8 seconds RetCode: 0 Status: OK