Package: ggtree Version: 4.0.1 Command: /home/biocbuild/R/R/bin/R CMD build --keep-empty-dirs --no-resave-data ggtree StartedAt: 2025-11-11 02:04:59 -0000 (Tue, 11 Nov 2025) EndedAt: 2025-11-11 02:05:19 -0000 (Tue, 11 Nov 2025) EllapsedTime: 20.0 seconds RetCode: 0 Status: OK PackageFile: ggtree_4.0.1.tar.gz PackageFileSize: 357.1 KiB