Package: ggtree Version: 4.0.1 Command: /home/biocbuild/bbs-3.22-bioc/R/bin/R CMD INSTALL ggtree StartedAt: 2025-11-11 15:14:34 -0500 (Tue, 11 Nov 2025) EndedAt: 2025-11-11 15:14:55 -0500 (Tue, 11 Nov 2025) EllapsedTime: 20.9 seconds RetCode: 0 Status: OK