Package: ggtree Version: 4.0.1 Command: /home/biocbuild/bbs-3.22-bioc/R/bin/R CMD check --install=check:ggtree.install-out.txt --library=/home/biocbuild/bbs-3.22-bioc/R/site-library --timings ggtree_4.0.1.tar.gz StartedAt: 2025-11-12 00:08:48 -0500 (Wed, 12 Nov 2025) EndedAt: 2025-11-12 00:10:23 -0500 (Wed, 12 Nov 2025) EllapsedTime: 95.1 seconds RetCode: 0 Status: OK CheckDir: ggtree.Rcheck Warnings: 0