Package: ggtree Version: 4.0.1 Command: /home/biocbuild/bbs-3.22-bioc/R/bin/R CMD build --keep-empty-dirs --no-resave-data --md5 ggtree StartedAt: 2025-11-11 17:57:49 -0500 (Tue, 11 Nov 2025) EndedAt: 2025-11-11 17:58:03 -0500 (Tue, 11 Nov 2025) EllapsedTime: 14.0 seconds RetCode: 0 Status: OK PackageFile: ggtree_4.0.1.tar.gz PackageFileSize: 361.6 KiB