Package: ggtree Version: 3.16.3 Command: /home/biocbuild/bbs-3.21-bioc/R/bin/R CMD INSTALL ggtree StartedAt: 2025-09-28 15:24:51 -0400 (Sun, 28 Sep 2025) EndedAt: 2025-09-28 15:25:08 -0400 (Sun, 28 Sep 2025) EllapsedTime: 16.3 seconds RetCode: 0 Status: OK