Package: ggtree Version: 3.16.3 Command: /home/biocbuild/bbs-3.21-bioc/R/bin/R CMD check --install=check:ggtree.install-out.txt --library=/home/biocbuild/bbs-3.21-bioc/R/site-library --timings ggtree_3.16.3.tar.gz StartedAt: 2025-09-28 23:48:07 -0400 (Sun, 28 Sep 2025) EndedAt: 2025-09-28 23:49:30 -0400 (Sun, 28 Sep 2025) EllapsedTime: 83.1 seconds RetCode: 0 Status: OK CheckDir: ggtree.Rcheck Warnings: 0