Package: ggtree Version: 3.16.3 Command: /Library/Frameworks/R.framework/Resources/bin/R CMD check --install=check:ggtree.install-out.txt --library=/Library/Frameworks/R.framework/Resources/library --no-vignettes --timings ggtree_3.16.3.tar.gz StartedAt: 2025-10-14 04:34:36 -0400 (Tue, 14 Oct 2025) EndedAt: 2025-10-14 04:38:22 -0400 (Tue, 14 Oct 2025) EllapsedTime: 225.9 seconds RetCode: 0 Status: OK CheckDir: ggtree.Rcheck Warnings: 0