Package: ggtree Version: 3.16.3 Command: rm -rf ggtree.buildbin-libdir && mkdir ggtree.buildbin-libdir && /Users/biocbuild/BBS/utils/build-universal.sh ggtree_3.16.3.tar.gz /Library/Frameworks/R.framework/Resources/bin/R ggtree.buildbin-libdir StartedAt: 2025-09-26 14:10:35 -0400 (Fri, 26 Sep 2025) EndedAt: 2025-09-26 14:11:25 -0400 (Fri, 26 Sep 2025) EllapsedTime: 50.1 seconds RetCode: 0 Status: OK PackageFile: ggtree_3.16.3.tgz PackageFileSize: 922.1 KiB