Package: ggtree Version: 3.16.3 Command: /Library/Frameworks/R.framework/Resources/bin/R CMD check --install=check:ggtree.install-out.txt --library=/Library/Frameworks/R.framework/Resources/library --no-vignettes --timings ggtree_3.16.3.tar.gz StartedAt: 2025-09-26 22:39:13 -0400 (Fri, 26 Sep 2025) EndedAt: 2025-09-26 22:40:54 -0400 (Fri, 26 Sep 2025) EllapsedTime: 101.0 seconds RetCode: 0 Status: OK CheckDir: ggtree.Rcheck Warnings: 0