Package: ggtree Version: 3.16.3 Command: /Library/Frameworks/R.framework/Resources/bin/R CMD build --keep-empty-dirs --no-resave-data ggtree StartedAt: 2025-09-26 01:08:51 -0400 (Fri, 26 Sep 2025) EndedAt: 2025-09-26 01:09:08 -0400 (Fri, 26 Sep 2025) EllapsedTime: 17.2 seconds RetCode: 0 Status: OK PackageFile: ggtree_3.16.3.tar.gz PackageFileSize: 353.5 KiB