Package: ggspavis Version: 1.16.0 Command: /home/biocbuild/bbs-3.22-bioc/R/bin/R CMD build --keep-empty-dirs --no-resave-data --md5 ggspavis StartedAt: 2025-11-11 17:57:44 -0500 (Tue, 11 Nov 2025) EndedAt: 2025-11-11 18:00:59 -0500 (Tue, 11 Nov 2025) EllapsedTime: 195.3 seconds RetCode: 0 Status: OK PackageFile: ggspavis_1.16.0.tar.gz PackageFileSize: 6.905 MiB