Package: ggseqalign Version: 1.2.0 Command: /home/biocbuild/bbs-3.21-bioc/R/bin/R CMD build --keep-empty-dirs --no-resave-data ggseqalign StartedAt: 2025-10-15 17:44:26 -0400 (Wed, 15 Oct 2025) EndedAt: 2025-10-15 17:44:55 -0400 (Wed, 15 Oct 2025) EllapsedTime: 29.0 seconds RetCode: 0 Status: OK PackageFile: ggseqalign_1.2.0.tar.gz PackageFileSize: 727.4 KiB