Package: ggseqalign Version: 1.4.0 Command: /Library/Frameworks/R.framework/Resources/bin/R CMD INSTALL ggseqalign StartedAt: 2025-11-03 15:48:44 -0500 (Mon, 03 Nov 2025) EndedAt: 2025-11-03 15:49:01 -0500 (Mon, 03 Nov 2025) EllapsedTime: 17.7 seconds RetCode: 0 Status: OK