Package: ggseqalign Version: 1.4.0 Command: rm -rf ggseqalign.buildbin-libdir && mkdir ggseqalign.buildbin-libdir && /Users/biocbuild/BBS/utils/build-universal.sh ggseqalign_1.4.0.tar.gz /Library/Frameworks/R.framework/Resources/bin/R ggseqalign.buildbin-libdir StartedAt: 2025-11-04 01:42:53 -0500 (Tue, 04 Nov 2025) EndedAt: 2025-11-04 01:43:14 -0500 (Tue, 04 Nov 2025) EllapsedTime: 20.8 seconds RetCode: 0 Status: OK PackageFile: ggseqalign_1.4.0.tgz PackageFileSize: 729.5 KiB