Package: ggsc Version: 1.8.0 Command: /Library/Frameworks/R.framework/Resources/bin/R CMD build --keep-empty-dirs --no-resave-data ggsc StartedAt: 2025-11-10 16:32:47 -0500 (Mon, 10 Nov 2025) EndedAt: 2025-11-10 16:33:09 -0500 (Mon, 10 Nov 2025) EllapsedTime: 21.2 seconds RetCode: 0 Status: OK PackageFile: ggsc_1.8.0.tar.gz PackageFileSize: 81.46 KiB