Package: ggmsa Version: 1.14.1 Command: /home/biocbuild/R/R/bin/R CMD INSTALL ggmsa StartedAt: 2025-10-13 20:52:09 -0000 (Mon, 13 Oct 2025) EndedAt: 2025-10-13 20:52:16 -0000 (Mon, 13 Oct 2025) EllapsedTime: 6.8 seconds RetCode: 1 Status: ERROR